BEGIN:VCALENDAR
VERSION:2.0
PRODID:-//Library Market//iCal Export//EN
BEGIN:VEVENT
SUMMARY:Divorce Care - Mission Church
UID:12885
DTSTAMP:20260422T014000Z
DTSTART:20260226T000000Z
DTEND:20260226T023000Z
LOCATION:101 Fairfield Way, Bloomingdale, IL 60108, United States
ROOM: Room A
DESCRIPTION:Community Group
URL:https://bloomingdale.librarycalendar.com/event/divorce-care-mission-ch
 urch-12885
END:VEVENT
END:VCALENDAR
