BEGIN:VCALENDAR
VERSION:2.0
PRODID:-//Library Market//iCal Export//EN
BEGIN:VEVENT
SUMMARY:VSNA - Group practice
UID:14515
DTSTAMP:20260424T233500Z
DTSTART:20260503T180000Z
DTEND:20260503T214500Z
LOCATION:101 Fairfield Way, Bloomingdale, IL 60108, United States
ROOM: Room A
DESCRIPTION:Community Group\r\nKids&#039; group practice for a presentatio
 n.
URL:https://bloomingdale.librarycalendar.com/event/vsna-group-practice-145
 15
END:VEVENT
END:VCALENDAR
