BEGIN:VCALENDAR
VERSION:2.0
PRODID:-//Library Market//iCal Export//EN
BEGIN:VEVENT
SUMMARY:Mahjong Workshop for Beginners
UID:14566
DTSTAMP:20260426T025500Z
DTSTART:20260811T233000Z
DTEND:20260812T010000Z
LOCATION:101 Fairfield Way, Bloomingdale, IL 60108, United States
ROOM: Room A/B
DESCRIPTION:Mahjong Workshop for BeginnersThis Mahjong workshop, hosted by
  Xinming Guo, introduces participants to the classic game of Mahjong in an
  engaging and educational setting. The session covers fundamental rules, s
 imple strategies, and hands-on practice--enhancing cognitive skills like m
 emory and problem-solving while promoting social interaction.Xinming Guo i
 s an award-winning educator and the founder of the Go and Math Academy spe
 cializing in integrating traditional Asian games like Go and Mahjong into 
 educational and community programs. He is the recipient of the American Go
  Foundation&#039;s National Teacher of the Year award and the Illinois Cou
 ncil of Teachers of Mathematics (ICTM) Fred Flener Award, recognizing his 
 exceptional contributions to engaging students beyond the traditional clas
 sroom. 
URL:https://bloomingdale.librarycalendar.com/event/beginners-mahjong-14566
END:VEVENT
END:VCALENDAR
